BEGIN:VCALENDAR
VERSION:2.0
PRODID:icalendar-ruby
CALSCALE:GREGORIAN
METHOD:PUBLISH
BEGIN:VEVENT
DTSTAMP:20260420T021635Z
UID:185-2719708@websterchurch.com
DTSTART:20260815T010000Z
DTEND:20260815T020000Z
CLASS:PUBLIC
CREATED:20260419T191127
DESCRIPTION:Youth Group
LAST-MODIFIED:20260419T191127
LOCATION:
SUMMARY:Youth Group
URL;VALUE=URI:https://www.websterchurch.com/events/youth-group--185/2026-08
 -14
ATTACH;FILENAME=Youth Group 2024 FB.jpg;FMTTYPE=image/jpeg:https://dq5pwpg1
 q8ru0.cloudfront.net/2024/09/27/18/14/24/4c7288ac-6e71-4c59-ada7-701b1636d
 7c4/Youth%20Group%202024%20FB.jpg
END:VEVENT
END:VCALENDAR
