BEGIN:VCALENDAR
VERSION:2.0
PRODID:icalendar-ruby
CALSCALE:GREGORIAN
METHOD:PUBLISH
BEGIN:VEVENT
DTSTAMP:20260425T170011Z
UID:148-2770236@websterchurch.com
DTSTART:20260927T163000Z
DTEND:20260927T180000Z
CLASS:PUBLIC
CREATED:20260425T093902
DESCRIPTION:Come and worship with us every Sunday at 10:30 am.\nOur service
 s include singing in worship together\, a time of sharing and prayer\, a c
 hildren's song and story\, and preaching from God's word. Every first Sund
 ay of the month we have a potluck lunch right after the service.\nWe also 
 offer Nursery for part of the service for ages 1-3.\n 
LAST-MODIFIED:20260425T093902
LOCATION:Webster Community Church
SUMMARY:Sunday Worship Service
URL;VALUE=URI:https://www.websterchurch.com/events/sunday-worship-service/2
 026-09-27
END:VEVENT
END:VCALENDAR
